BEGIN:VCALENDAR
PRODID:NingEventWidget-v1
VERSION:2.0
METHOD:PUBLISH
BEGIN:VTIMEZONE
TZID:America/Anguilla
X-LIC-LOCATION:America/Anguilla
BEGIN:STANDARD
TZOFFSETFROM:-0400
TZOFFSETTO:-0400
TZNAME:AST
DTSTART:19700101T000000
END:STANDARD
END:VTIMEZONE
BEGIN:VEVENT
UID:5706654:Event:13820
DTSTAMP:20260423T015532Z
SUMMARY:Green Energy Ohio Tour Week - October 1-7, 2012
DESCRIPTION:Green Energy Ohio, the non-profit renewable energy advocat
 e, will showcase renewable energy and green design in events throughou
 t Ohio from Monday, October 1, through Sunday, October 7.  Tour sites
  include public locations such as parks and schools, businesses and pr
 ivate homes.  The Tour is free to the public during designated times 
 which are posted at: www.greenenergyohio.org/ost.  Visitors can choos
 e from local sites and create a tour that is convenient to their perso
 nal schedules.  Many guided tours are also available.  Over 170 open
  house sites in more than 100 communities in 49 counties across the st
 ate have registered in the longest tour event ever.  \n\nFor more inf
 ormation visit https://renewablesohio.ning.com/events/green-energy-ohi
 o-tour-week-october-1-7-2012
DTSTART;TZID=America/Anguilla:20121001T000000
DTEND;TZID=America/Anguilla:20121007T235900
CATEGORIES:green, energy, ohio, tour
LOCATION:Open House Sites Across Ohio
WEBSITE:http://www.greenenergyohio.org/ost
URL:http://www.greenenergyohio.org/ost
CONTACT:
ORGANIZER;CN="Emily Sautter":https://renewablesohio.ning.com/profile/E
 milySautter
ATTACH;FMTTYPE="image/jpeg":http://storage.ning.com/topology/rest/1.0/
 file/get/2847097048?profile=original
ATTENDEE;ROLE=REQ-PARTICIPANT;PARTSTAT=ACCEPTED;RSVP=TRUE;CN="Emily Sa
 utter":https://renewablesohio.ning.com/profile/EmilySautter
END:VEVENT
END:VCALENDAR
